BEGIN:VCALENDAR
VERSION:2.0
PRODID:-//wp-events-plugin.com//7.2.3.1//EN
TZID:Europe/Berlin
X-WR-TIMEZONE:Europe/Berlin
BEGIN:VEVENT
UID:24099@goldbekhaus.de
DTSTART;TZID=Europe/Berlin:20250829T173000
DTEND;TZID=Europe/Berlin:20250829T184500
DTSTAMP:20250731T111151Z
URL:https://www.goldbekhaus.de/eventmanager/discofox-figuren/
SUMMARY:Discofox Figuren / Folge
DESCRIPTION:Sabine und Michael unterrichten mit viel Spaß\, Fachwissen und
  Erfahrung die Standard- und Lateintänze.
ATTACH;FMTTYPE=image/jpeg:https://www.goldbekhaus.de/wp-content/uploads/20
 25/02/TanzinTakt_Workshops.jpg
CATEGORIES:Tanz &amp; Theater
LOCATION:Aula der Schule Meerweinstraße 26\, Meerweinstr. 26\, Hamburg\, 2
 2301\, Deutschland
X-APPLE-STRUCTURED-LOCATION;VALUE=URI;X-ADDRESS=Meerweinstr. 26\, Hamburg\,
  22301\, Deutschland;X-APPLE-RADIUS=100;X-TITLE=Aula der Schule Meerweinst
 raße 26:geo:0,0
END:VEVENT
BEGIN:VTIMEZONE
TZID:Europe/Berlin
X-LIC-LOCATION:Europe/Berlin
BEGIN:DAYLIGHT
DTSTART:20250330T030000
TZOFFSETFROM:+0100
TZOFFSETTO:+0200
TZNAME:CEST
END:DAYLIGHT
END:VTIMEZONE
END:VCALENDAR