BEGIN:VCALENDAR
VERSION:2.0
PRODID:-//wp-events-plugin.com//7.2.3.1//EN
TZID:Europe/Berlin
X-WR-TIMEZONE:Europe/Berlin
BEGIN:VEVENT
UID:24293@goldbekhaus.de
DTSTART;TZID=Europe/Berlin:20260507T173000
DTEND;TZID=Europe/Berlin:20260507T190000
DTSTAMP:20260225T205143Z
URL:https://www.goldbekhaus.de/eventmanager/graffiti-kurs-hiphop-academy-g
 oes-goldbekhaus-2026-05-07/
SUMMARY:Graffiti-Kurs – HipHop Academy goes Goldbekhaus
DESCRIPTION:Graffiti-Kurs für Kids und junge Erwachsene von 12 bis 20 Jah
 ren. Mit Markern und Cans erarbeiten wir unseren eigenen Styles und kleine
  Kunstwerke. Gleichzeitig lernt ihr zeichnerische und malerische Grundlage
 n\, wie perspektivisches Arbeiten.
ATTACH;FMTTYPE=image/jpeg:https://www.goldbekhaus.de/wp-content/uploads/20
 25/09/Kurse_HHA_Graffiti.jpg
CATEGORIES:Wort &amp; Farbe
LOCATION:Seminarraum 1\, Moorfurthweg 9\, Hamburg\, 22301\, Deutschland
X-APPLE-STRUCTURED-LOCATION;VALUE=URI;X-ADDRESS=Moorfurthweg 9\, Hamburg\, 
 22301\, Deutschland;X-APPLE-RADIUS=100;X-TITLE=Seminarraum 1:geo:0,0
END:VEVENT
BEGIN:VTIMEZONE
TZID:Europe/Berlin
X-LIC-LOCATION:Europe/Berlin
BEGIN:DAYLIGHT
DTSTART:20260329T030000
TZOFFSETFROM:+0100
TZOFFSETTO:+0200
TZNAME:CEST
END:DAYLIGHT
END:VTIMEZONE
END:VCALENDAR