BEGIN:VCALENDAR
VERSION:2.0
PRODID:-//wp-events-plugin.com//7.2.3.1//EN
TZID:Europe/Berlin
X-WR-TIMEZONE:Europe/Berlin
BEGIN:VEVENT
UID:24391@goldbekhaus.de
DTSTART;TZID=Europe/Berlin:20251109T110000
DTEND;TZID=Europe/Berlin:20251109T110000
DTSTAMP:20251030T111047Z
URL:https://www.goldbekhaus.de/eventmanager/im-kreis-gedacht-nachhaltigkei
 t-praktisch-erleben/
SUMMARY:Im Kreis gedacht: Nachhaltigkeit praktisch erleben
DESCRIPTION:Am 8. und 9. November 2025 lädt die Veranstaltungsreihe „Im 
 Kreis gedacht“ dazu ein\, ressourcenschonendes und umweltfreundliches Ha
 ndeln im Alltag zu entdecken. Besucher*innen können erleben\, wie Kreisla
 ufdenken und nachhaltige Materialien praktisch funktionieren\, von achtsam
 er Materialwahl über regenerative Bauweisen bis hin zu gemeinschaftlicher
  Solarenergie.
ATTACH;FMTTYPE=image/jpeg:https://www.goldbekhaus.de/wp-content/uploads/20
 25/10/Veranstaltungen_Kreislaufgesellschaft.jpg
CATEGORIES:aktiv &amp; dabei
LOCATION:Deck 9d\, Seminarraum 1\, Hof\, Moorfuhrtweg 9\, Hamburg\, 22301\,
  Deutschland
X-APPLE-STRUCTURED-LOCATION;VALUE=URI;X-ADDRESS=Moorfuhrtweg 9\, Hamburg\, 
 22301\, Deutschland;X-APPLE-RADIUS=100;X-TITLE=Deck 9d\, Seminarraum 1\, H
 of:geo:0,0
END:VEVENT
BEGIN:VTIMEZONE
TZID:Europe/Berlin
X-LIC-LOCATION:Europe/Berlin
BEGIN:STANDARD
DTSTART:20251026T020000
TZOFFSETFROM:+0200
TZOFFSETTO:+0100
TZNAME:CET
END:STANDARD
END:VTIMEZONE
END:VCALENDAR