BEGIN:VCALENDAR
VERSION:2.0
PRODID:-//wp-events-plugin.com//7.2.3.1//EN
TZID:Europe/Berlin
X-WR-TIMEZONE:Europe/Berlin
BEGIN:VEVENT
UID:22979@goldbekhaus.de
DTSTART;TZID=Europe/Berlin:20250118T103000
DTEND;TZID=Europe/Berlin:20250118T170000
DTSTAMP:20241209T091022Z
URL:https://www.goldbekhaus.de/eventmanager/inkluvention-workshop-5/
SUMMARY:Inkluvention – Workshop #5
DESCRIPTION:Das offene Kunstatelier Inkluvention lädt zu einem Wochenendwo
 rkshop "Drucktechniken" ein.
ATTACH;FMTTYPE=image/jpeg:https://www.goldbekhaus.de/wp-content/uploads/20
 24/12/WS_Inkluvention_Workshop-5_Januar-2025-rotated.jpg
CATEGORIES:Wort &amp; Farbe
LOCATION:treffpunkt.jarrestadt\, Jarrestraße 27/29\, Hamburg\, 22303\, Deu
 tschland
X-APPLE-STRUCTURED-LOCATION;VALUE=URI;X-ADDRESS=Jarrestraße 27/29\, Hambur
 g\, 22303\, Deutschland;X-APPLE-RADIUS=100;X-TITLE=treffpunkt.jarrestadt:g
 eo:0,0
END:VEVENT
BEGIN:VTIMEZONE
TZID:Europe/Berlin
X-LIC-LOCATION:Europe/Berlin
BEGIN:STANDARD
DTSTART:20241027T020000
TZOFFSETFROM:+0200
TZOFFSETTO:+0100
TZNAME:CET
END:STANDARD
END:VTIMEZONE
END:VCALENDAR