BEGIN:VCALENDAR
VERSION:2.0
PRODID:-//wp-events-plugin.com//7.2.3.1//EN
TZID:Europe/Berlin
X-WR-TIMEZONE:Europe/Berlin
BEGIN:VEVENT
UID:23827@goldbekhaus.de
DTSTART;TZID=Europe/Berlin:20251025T190000
DTEND;TZID=Europe/Berlin:20251025T210000
DTSTAMP:20250703T110030Z
URL:https://www.goldbekhaus.de/eventmanager/kess/
SUMMARY:Kess
DESCRIPTION:Von den Stones über Steve Miller bis Element of Crime. Das ist
  Kess! 
ATTACH;FMTTYPE=image/jpeg:https://www.goldbekhaus.de/wp-content/uploads/20
 25/07/Kess_HP-1.jpg
CATEGORIES:Konzert
LOCATION:Bühne zum Hof\, Moorfuhrtweg 9\, Hamburg\, 22301\, Deutschland
X-APPLE-STRUCTURED-LOCATION;VALUE=URI;X-ADDRESS=Moorfuhrtweg 9\, Hamburg\, 
 22301\, Deutschland;X-APPLE-RADIUS=100;X-TITLE=Bühne zum Hof:geo:0,0
END:VEVENT
BEGIN:VTIMEZONE
TZID:Europe/Berlin
X-LIC-LOCATION:Europe/Berlin
BEGIN:DAYLIGHT
DTSTART:20250330T030000
TZOFFSETFROM:+0100
TZOFFSETTO:+0200
TZNAME:CEST
END:DAYLIGHT
END:VTIMEZONE
END:VCALENDAR