BEGIN:VCALENDAR
VERSION:2.0
PRODID:-//wp-events-plugin.com//7.2.3.1//EN
TZID:Europe/Berlin
X-WR-TIMEZONE:Europe/Berlin
BEGIN:VEVENT
UID:22977@goldbekhaus.de
DTSTART;TZID=Europe/Berlin:20250216T150000
DTEND;TZID=Europe/Berlin:20250216T150000
DTSTAMP:20250203T224326Z
URL:https://www.goldbekhaus.de/eventmanager/klezmersession-und-open-stage-
 mit-sveta-kundish-anna-vishnevska-stella-morgenstern/
SUMMARY:Klezmersession und Open Stage mit Anna Vishnevska\, Maryna Vasylyev
 a\, Taly Almagor & Stella Morgenstern
DESCRIPTION:Die Bühne ist offen für alle. Die Session richtet sich an Men
 schen\, die Lust haben\, jiddische Musik zu entdecken\, mitzumachen oder e
 infach nur zuzuhören.
ATTACH;FMTTYPE=image/jpeg:https://www.goldbekhaus.de/wp-content/uploads/20
 24/12/Klezmersession-web.jpg
CATEGORIES:Konzert
LOCATION:Deck 9d\, Moorfuhrtweg 9\, Hamburg\, 22301\, Deutschland
X-APPLE-STRUCTURED-LOCATION;VALUE=URI;X-ADDRESS=Moorfuhrtweg 9\, Hamburg\, 
 22301\, Deutschland;X-APPLE-RADIUS=100;X-TITLE=Deck 9d:geo:0,0
END:VEVENT
BEGIN:VTIMEZONE
TZID:Europe/Berlin
X-LIC-LOCATION:Europe/Berlin
BEGIN:STANDARD
DTSTART:20241027T020000
TZOFFSETFROM:+0200
TZOFFSETTO:+0100
TZNAME:CET
END:STANDARD
END:VTIMEZONE
END:VCALENDAR