BEGIN:VCALENDAR
VERSION:2.0
PRODID:-//wp-events-plugin.com//7.2.3.1//EN
TZID:Europe/Berlin
X-WR-TIMEZONE:Europe/Berlin
BEGIN:VEVENT
UID:24393@goldbekhaus.de
DTSTART;TZID=Europe/Berlin:20251206T110000
DTEND;TZID=Europe/Berlin:20251206T190000
DTSTAMP:20251016T120656Z
URL:https://www.goldbekhaus.de/eventmanager/kunstwelt-weihnachtsmarkt/
SUMMARY:Kunstwelt Weihnachtsmarkt
DESCRIPTION:Wir feiern einen gemeinsamen Tag voller Kunst\, Begegnung und p
 ositiver Energie.\n
ATTACH;FMTTYPE=image/jpeg:https://www.goldbekhaus.de/wp-content/uploads/20
 25/10/Kunstwelt_Markt_IG.jpg
CATEGORIES:Markt
LOCATION:Halle\, Moorfuhrtweg 9\, Hamburg\, 22301\, Deutschland
X-APPLE-STRUCTURED-LOCATION;VALUE=URI;X-ADDRESS=Moorfuhrtweg 9\, Hamburg\, 
 22301\, Deutschland;X-APPLE-RADIUS=100;X-TITLE=Halle:geo:0,0
END:VEVENT
BEGIN:VTIMEZONE
TZID:Europe/Berlin
X-LIC-LOCATION:Europe/Berlin
BEGIN:STANDARD
DTSTART:20251026T020000
TZOFFSETFROM:+0200
TZOFFSETTO:+0100
TZNAME:CET
END:STANDARD
END:VTIMEZONE
END:VCALENDAR