BEGIN:VCALENDAR
VERSION:2.0
PRODID:-//wp-events-plugin.com//7.2.3.1//EN
TZID:Europe/Berlin
X-WR-TIMEZONE:Europe/Berlin
BEGIN:VEVENT
UID:22957@goldbekhaus.de
DTSTART;TZID=Europe/Berlin:20250122T194500
DTEND;TZID=Europe/Berlin:20250305T214500
DTSTAMP:20250106T101212Z
URL:https://www.goldbekhaus.de/event-recurring/stopp-deine-kunst-ist-verbo
 ten/
SUMMARY:STOPP! DEINE KUNST IST VERBOTEN.
DESCRIPTION:1933 beginnt der nationalsozialistische Albtraum und Umbau von 
 Staat\, Gesellschaft und auch der Kunst nach völkischen Vorstellungen.
ATTACH;FMTTYPE=image/jpeg:https://www.goldbekhaus.de/wp-content/uploads/20
 24/11/SW_web.jpg
CATEGORIES:Tanz &amp; Theater
LOCATION:Deck 9d\, Moorfuhrtweg 9\, Hamburg\, 22301\, Deutschland
X-APPLE-STRUCTURED-LOCATION;VALUE=URI;X-ADDRESS=Moorfuhrtweg 9\, Hamburg\, 
 22301\, Deutschland;X-APPLE-RADIUS=100;X-TITLE=Deck 9d:geo:0,0
END:VEVENT
BEGIN:VTIMEZONE
TZID:Europe/Berlin
X-LIC-LOCATION:Europe/Berlin
BEGIN:STANDARD
DTSTART:20241027T020000
TZOFFSETFROM:+0200
TZOFFSETTO:+0100
TZNAME:CET
END:STANDARD
END:VTIMEZONE
END:VCALENDAR