BEGIN:VCALENDAR
VERSION:2.0
PRODID:-//wp-events-plugin.com//7.2.3.1//EN
TZID:Europe/Berlin
X-WR-TIMEZONE:Europe/Berlin
BEGIN:VEVENT
UID:25157@goldbekhaus.de
DTSTART;TZID=Europe/Berlin:20260731T100000
DTEND;TZID=Europe/Berlin:20260731T120000
DTSTAMP:20260209T154510Z
URL:https://www.goldbekhaus.de/eventmanager/sup-morgentoerns-fuer-geuebte-
 erwachsene-2026-06-05-2026-06-12-2026-06-19-2026-06-26-2026-07-03-2026-07-
 10-2026-07-17-2026-07-24-2026-07-31/
SUMMARY:SUP Morgentörns für geübte Erwachsene
DESCRIPTION:Entspannung und Fun auf dem Wasser pur und selbstorganisiert! B
 eim Stand Up Paddling den Abend auf Hamburgs Kanälen sowie auf der Binnen
 - und Außenalster genießen.
ATTACH;FMTTYPE=image/jpeg:https://www.goldbekhaus.de/wp-content/uploads/20
 25/03/SUP_Abendtoern_Sonnenunterg.jpg
CATEGORIES:Fitness &amp; Spiel
LOCATION:SUP-Container im Hof\, Moorfuhrtweg 9\, Hamburg\, 22301\, Deutschl
 and
X-APPLE-STRUCTURED-LOCATION;VALUE=URI;X-ADDRESS=Moorfuhrtweg 9\, Hamburg\, 
 22301\, Deutschland;X-APPLE-RADIUS=100;X-TITLE=SUP-Container im Hof:geo:0,
 0
END:VEVENT
BEGIN:VTIMEZONE
TZID:Europe/Berlin
X-LIC-LOCATION:Europe/Berlin
BEGIN:DAYLIGHT
DTSTART:20260329T030000
TZOFFSETFROM:+0100
TZOFFSETTO:+0200
TZNAME:CEST
END:DAYLIGHT
END:VTIMEZONE
END:VCALENDAR