BEGIN:VCALENDAR
VERSION:2.0
PRODID:-//wp-events-plugin.com//7.2.3.1//EN
TZID:Europe/Berlin
X-WR-TIMEZONE:Europe/Berlin
BEGIN:VEVENT
UID:25307@goldbekhaus.de
DTSTART;TZID=Europe/Berlin:20260719T170000
DTEND;TZID=Europe/Berlin:20260719T183000
DTSTAMP:20260218T164229Z
URL:https://www.goldbekhaus.de/eventmanager/tango-argentino-dancer-4-2026-
 04-19-2026-04-26-2026-05-03-2026-05-10-2026-05-17-2026-05-24-2026-05-31-20
 26-06-07-2026-06-14-2026-06-21-2026-06-28-2026-07-05-2026-07-12-2026-07-19
 /
SUMMARY:Tango Argentino | Dancer 4
DESCRIPTION:Rhythmus und Leidenschaft. Der Tango Argentino des 21. Jahrhund
 erts basiert auf den natürlichen Bewegungsmöglichkeiten des Körpers\, s
 o dass ihn jede und jeder lernen kann.
ATTACH;FMTTYPE=image/jpeg:https://www.goldbekhaus.de/wp-content/uploads/20
 24/05/Goldbekhaus_Tango_Argentino_2022.jpg
CATEGORIES:Tanz &amp; Theater
LOCATION:Halle\, Moorfuhrtweg 9\, Hamburg\, 22301\, Deutschland
X-APPLE-STRUCTURED-LOCATION;VALUE=URI;X-ADDRESS=Moorfuhrtweg 9\, Hamburg\, 
 22301\, Deutschland;X-APPLE-RADIUS=100;X-TITLE=Halle:geo:0,0
END:VEVENT
BEGIN:VTIMEZONE
TZID:Europe/Berlin
X-LIC-LOCATION:Europe/Berlin
BEGIN:DAYLIGHT
DTSTART:20260329T030000
TZOFFSETFROM:+0100
TZOFFSETTO:+0200
TZNAME:CEST
END:DAYLIGHT
END:VTIMEZONE
END:VCALENDAR