BEGIN:VCALENDAR
VERSION:2.0
PRODID:-//wp-events-plugin.com//7.2.3.1//EN
TZID:Europe/Berlin
X-WR-TIMEZONE:Europe/Berlin
BEGIN:VEVENT
UID:1589@goldbekhaus.de
DTSTART;TZID=Europe/Berlin:20241124T200000
DTEND;TZID=Europe/Berlin:20241124T200000
DTSTAMP:20240920T073329Z
URL:https://www.goldbekhaus.de/eventmanager/true-colors/
SUMMARY:True Colors
DESCRIPTION:Das Publikum darf sich unter anderem auf Lieder von Cyndi Laupe
 r\, Beyoncé\, Anna Depenbusch sowie Natasha Bedingfield freuen.
ATTACH;FMTTYPE=image/jpeg:https://www.goldbekhaus.de/wp-content/uploads/20
 24/09/Chor-True-Colors.jpg
CATEGORIES:Konzert
LOCATION:Bühne zum Hof\, Moorfuhrtweg 9\, Hamburg\, 22301\, Deutschland
X-APPLE-STRUCTURED-LOCATION;VALUE=URI;X-ADDRESS=Moorfuhrtweg 9\, Hamburg\, 
 22301\, Deutschland;X-APPLE-RADIUS=100;X-TITLE=Bühne zum Hof:geo:0,0
END:VEVENT
BEGIN:VTIMEZONE
TZID:Europe/Berlin
X-LIC-LOCATION:Europe/Berlin
BEGIN:STANDARD
DTSTART:20241027T020000
TZOFFSETFROM:+0200
TZOFFSETTO:+0100
TZNAME:CET
END:STANDARD
END:VTIMEZONE
END:VCALENDAR