BEGIN:VCALENDAR
VERSION:2.0
PRODID:-//wp-events-plugin.com//7.2.3.1//EN
TZID:Europe/Berlin
X-WR-TIMEZONE:Europe/Berlin
BEGIN:VEVENT
UID:24372@goldbekhaus.de
DTSTART;TZID=Europe/Berlin:20251103T193000
DTEND;TZID=Europe/Berlin:20251103T193000
DTSTAMP:20250912T121858Z
URL:https://www.goldbekhaus.de/eventmanager/vortragsreihe-hochsensibilitae
 t-6/
SUMMARY:Vortragsreihe Hochsensibilität
DESCRIPTION:Was sind die derzeitigen wissenschaftlichen Erkenntnisse über 
 Hochsensibilität? Welche Bedeutung hat ein frühzeitiges Erkennen von Hoc
 hsensibilität für Kinder? In einzelnen Fachvorträgen befassen wir uns m
 it Fragen rund um das Thema Hochsensibilität. 
ATTACH;FMTTYPE=image/jpeg:https://www.goldbekhaus.de/wp-content/uploads/20
 25/08/Vortragsreihe-Hochsensibilitaet-fuer-Goldbek-jpeg-002.jpeg
CATEGORIES:Info
LOCATION:Bühne zum Hof\, Moorfuhrtweg 9\, Hamburg\, 22301\, Deutschland
X-APPLE-STRUCTURED-LOCATION;VALUE=URI;X-ADDRESS=Moorfuhrtweg 9\, Hamburg\, 
 22301\, Deutschland;X-APPLE-RADIUS=100;X-TITLE=Bühne zum Hof:geo:0,0
END:VEVENT
BEGIN:VTIMEZONE
TZID:Europe/Berlin
X-LIC-LOCATION:Europe/Berlin
BEGIN:STANDARD
DTSTART:20251026T020000
TZOFFSETFROM:+0200
TZOFFSETTO:+0100
TZNAME:CET
END:STANDARD
END:VTIMEZONE
END:VCALENDAR